BEGIN:VCALENDAR
VERSION:2.0
PRODID:-//wp-events-plugin.com//7.2.3.1//EN
TZID:America/Chicago
X-WR-TIMEZONE:America/Chicago
BEGIN:VEVENT
UID:3@theenclavehoa.net
DTSTART;TZID=America/Chicago:20221204T180000
DTEND;TZID=America/Chicago:20221204T210000
DTSTAMP:20221106T161434Z
URL:https://theenclavehoa.net/?event=the-enclave-christmas-dinner-rsvp
SUMMARY:The Enclave Christmas Dinner RSVP
DESCRIPTION:
CATEGORIES:Christmas Holiday Dinner,Social Committee
LOCATION:Amedeo's Italian Restaurant\, 22704 Loop 494 #A\, Kingwood\, TX\, 
 77339\, United States
X-APPLE-STRUCTURED-LOCATION;VALUE=URI;X-ADDRESS=22704 Loop 494 #A\, Kingwoo
 d\, TX\, 77339\, United States;X-APPLE-RADIUS=100;X-TITLE=Amedeo's Italian
  Restaurant:geo:0,0
END:VEVENT
BEGIN:VEVENT
UID:4@theenclavehoa.net
DTSTART;TZID=America/Chicago:20230110T150000
DTEND;TZID=America/Chicago:20230110T160000
DTSTAMP:20230108T184206Z
URL:https://theenclavehoa.net/?event=lhca-board-meeting
SUMMARY:LHCA Board Meeting
DESCRIPTION:The quarterly meeting of the Lake Houston Community Association
  Board Meeting will be held by Zoom on Tuesday\, January 10\, 2023 at 3:00
  PM\n\nJoin by clicking HERE\n\n&nbsp\;
END:VEVENT
BEGIN:VEVENT
UID:5@theenclavehoa.net
DTSTART;TZID=America/Chicago:20230218T120000
DTEND;TZID=America/Chicago:20230218T190000
DTSTAMP:20230117T044529Z
URL:https://theenclavehoa.net/?event=mardi-gras-festival-and-parade-2023
SUMMARY:Mardi Gras Festival and Parade 2023
DESCRIPTION:Town Center Park\nOur annual Mardi Gras Festival and Parade ret
 urns on Saturday\, February 18th\, 2023. We will again have a large variet
 y of craft and food vendors.The Festival begins at Noon and the parade sta
 rts at 2pmThe Parade runs from close to the KinderCare center on Bens Bran
 ch Drive\, takes a clockwise circuit around the Park and then exits back t
 o Bens Branch Dr. We will award prizes for best entry for the various cate
 gories.We continue the afternoon with the fabulous sounds of a live Zydeco
  band\, always a popular genre with our community.Bring your lawn chairs\,
  coolers and your dancing shoes and boogie until 7pm!\nTownCenter Events\n
 \n&nbsp\;
LOCATION:Town Center Park\, 8 N Main Street\, Kingwood\, TX\, 77339\, Unite
 d States
X-APPLE-STRUCTURED-LOCATION;VALUE=URI;X-ADDRESS=8 N Main Street\, Kingwood\
 , TX\, 77339\, United States;X-APPLE-RADIUS=100;X-TITLE=Town Center Park:g
 eo:0,0
END:VEVENT
BEGIN:VEVENT
UID:6@theenclavehoa.net
DTSTART;TZID=America/Chicago:20230304T110000
DTEND;TZID=America/Chicago:20230304T170000
DTSTAMP:20230117T044456Z
URL:https://theenclavehoa.net/?event=humble-noon-lions-chili-cook-off-2023
SUMMARY:Humble Noon Lions Chili Cook-Off 2023
DESCRIPTION:Town Center Park\n\n\nJoin us at Town Center Park in the heart 
 of Kingwood on Saturday\, March 4th\, 2023 from 11:00am to 5:00pm for the 
 first Kingwood Chili Cook-Off and Festival. Organized by Humble Noon Lions
  to celebrate the 40th anniversary of their group providing service to the
  Lake Houston Community.\n\nMore information to follow.\n\nFor more inform
 ation call or text Tony Austin\non 346-600-2366\n\nTownCenter Events\n\n&n
 bsp\;
LOCATION:Town Center Park\, 8 N Main Street\, Kingwood\, TX\, 77339\, Unite
 d States
X-APPLE-STRUCTURED-LOCATION;VALUE=URI;X-ADDRESS=8 N Main Street\, Kingwood\
 , TX\, 77339\, United States;X-APPLE-RADIUS=100;X-TITLE=Town Center Park:g
 eo:0,0
END:VEVENT
BEGIN:VEVENT
UID:8@theenclavehoa.net
DTSTART;TZID=America/Chicago:20230423T120000
DTEND;TZID=America/Chicago:20230423T170000
DTSTAMP:20230117T044417Z
URL:https://theenclavehoa.net/?event=dr-scott-mosby-spring-car-show-2023
SUMMARY:Dr Scott Mosby Spring Car Show 2023
DESCRIPTION:Town Center Park\n&nbsp\;\n\nDr Scott Mosby Spring Car Show Lin
 k\n\n&nbsp\;
LOCATION:Town Center Park\, 8 N Main Street\, Kingwood\, TX\, 77339\, Unite
 d States
X-APPLE-STRUCTURED-LOCATION;VALUE=URI;X-ADDRESS=8 N Main Street\, Kingwood\
 , TX\, 77339\, United States;X-APPLE-RADIUS=100;X-TITLE=Town Center Park:g
 eo:0,0
END:VEVENT
BEGIN:VEVENT
UID:10@theenclavehoa.net
DTSTART;TZID=America/Chicago:20230725T150000
DTEND;TZID=America/Chicago:20230725T160000
DTSTAMP:20230530T230948Z
URL:https://theenclavehoa.net/?event=lake-houston-community-association-qu
 arterly-board-meeting
SUMMARY:Lake Houston Community Association Quarterly Board Meeting
DESCRIPTION:The meeting will be held in Barbara Williamson Children's Activ
 ity Room located on the first floor.  Enter into the library and turn rig
 ht through the children's library books to reach the meeting room.
CATEGORIES:LHCA Board Meeting
LOCATION:https://goo.gl/maps/8nPPfz7haqSn5Vu47
END:VEVENT
BEGIN:VEVENT
UID:14@theenclavehoa.net
DTSTART;TZID=America/Chicago:20240403T150000
DTEND;TZID=America/Chicago:20240403T160000
DTSTAMP:20240219T013600Z
URL:https://theenclavehoa.net/?event=lake-houston-community-association-bo
 ard-meeting
SUMMARY:Lake Houston Community Association Board Meeting
DESCRIPTION:The meeting will be held in the MEETING ROOM of the library.  
 This room is the large room located to the right\, inside the entrance doo
 rs.
CATEGORIES:LHCA Board Meeting
LOCATION:https://maps.app.goo.gl/79C1FMy5AwTtzvrBA
END:VEVENT
BEGIN:VEVENT
UID:11@theenclavehoa.net
DTSTART;TZID=America/Chicago:20240403T150000
DTEND;TZID=America/Chicago:20240403T160000
DTSTAMP:20240114T232639Z
URL:https://theenclavehoa.net/?event=lake-houston-community-association-qu
 arterly-board-meeting-2
SUMMARY:Lake Houston Community Association Quarterly Board Meeting
DESCRIPTION:This meeting is sheduled to be held at the Kingwood Library in 
 The Meeting Room.  This is the first room to the right as you enter the b
 uilding.
LOCATION:Kingwood Library\, 4400 Bens View Ln\, Kingwood\, TX\, 77339\, Uni
 ted States
X-APPLE-STRUCTURED-LOCATION;VALUE=URI;X-ADDRESS=4400 Bens View Ln\, Kingwoo
 d\, TX\, 77339\, United States;X-APPLE-RADIUS=100;X-TITLE=Kingwood Library
 :geo:0,0
END:VEVENT
BEGIN:VEVENT
UID:12@theenclavehoa.net
DTSTART;TZID=America/Chicago:20240419T100000
DTEND;TZID=America/Chicago:20240421T160000
DTSTAMP:20240219T012643Z
URL:https://theenclavehoa.net/?event=kingwood-garden-club-home-and-garden-
 tour
SUMMARY:Kingwood Garden Club Home and Garden Tour
DESCRIPTION:The Kingwood Garden Club hosts Garden Tours every other year of
  exceptional gardens in Kingwood. The tour includes a plant sale. The comm
 unity and surrounding areas will have an opportunity to tour these lovely 
 gardens.\n\nFriday\, April 19  -  10 AM to 4 PM\n\nSaturday\, April 20 
  -  10 AM to 4 PM\n\nSunday\, April 21  -  12 PM to 4 PM\n\nTickets are
  $25.  For tickets\, please contact one of your Enclave neighbors:\n\nJan
 et Roberts  832-527-3292\n\nCecily Ryan  832-527-8809\n\nRuthann Koza  
 281-360-7876
CATEGORIES:Community Event
END:VEVENT
BEGIN:VEVENT
UID:15@theenclavehoa.net
DTSTART;TZID=America/Chicago:20240703T150000
DTEND;TZID=America/Chicago:20240703T160000
DTSTAMP:20240219T013902Z
URL:https://theenclavehoa.net/?event=lake-houston-community-association-bo
 ard-meeting-2
SUMMARY:Lake Houston Community Association Board Meeting
DESCRIPTION:Location will be posted when confirmed
CATEGORIES:LHCA Board Meeting
END:VEVENT
BEGIN:VEVENT
UID:16@theenclavehoa.net
DTSTART;TZID=America/Chicago:20241002T150000
DTEND;TZID=America/Chicago:20241002T160000
DTSTAMP:20240219T014056Z
URL:https://theenclavehoa.net/?event=lake-houston-community-association-bo
 ard-meeting-3
SUMMARY:Lake Houston Community Association Board Meeting
DESCRIPTION:The location will be provided when confirmed
CATEGORIES:LHCA Board Meeting
END:VEVENT
BEGIN:VEVENT
UID:17@theenclavehoa.net
DTSTART;TZID=America/Chicago:20241106T180000
DTEND;TZID=America/Chicago:20241106T190000
DTSTAMP:20240219T014317Z
URL:https://theenclavehoa.net/?event=lake-houston-community-association-an
 nual-meeting
SUMMARY:Lake Houston Community Association Annual Meeting
DESCRIPTION:Location will be updated when confirmed
CATEGORIES:LHCA Board Meeting
END:VEVENT
BEGIN:VTIMEZONE
TZID:America/Chicago
X-LIC-LOCATION:America/Chicago
BEGIN:STANDARD
DTSTART:20221106T010000
TZOFFSETFROM:-0500
TZOFFSETTO:-0600
TZNAME:CST
END:STANDARD
BEGIN:DAYLIGHT
DTSTART:20230312T030000
TZOFFSETFROM:-0600
TZOFFSETTO:-0500
TZNAME:CDT
END:DAYLIGHT
BEGIN:STANDARD
DTSTART:20231105T010000
TZOFFSETFROM:-0500
TZOFFSETTO:-0600
TZNAME:CST
END:STANDARD
BEGIN:DAYLIGHT
DTSTART:20240310T030000
TZOFFSETFROM:-0600
TZOFFSETTO:-0500
TZNAME:CDT
END:DAYLIGHT
BEGIN:STANDARD
DTSTART:20241103T010000
TZOFFSETFROM:-0500
TZOFFSETTO:-0600
TZNAME:CST
END:STANDARD
END:VTIMEZONE
END:VCALENDAR